BEGIN:VCALENDAR
VERSION:2.0
PRODID:-//Le Moyne College - ECPv6.14.2//NONSGML v1.0//EN
CALSCALE:GREGORIAN
METHOD:PUBLISH
X-WR-CALNAME:Le Moyne College
X-ORIGINAL-URL:https://www.lemoyne.edu
X-WR-CALDESC:Events for Le Moyne College
REFRESH-INTERVAL;VALUE=DURATION:PT1H
X-Robots-Tag:noindex
X-PUBLISHED-TTL:PT1H
BEGIN:VTIMEZONE
TZID:America/New_York
BEGIN:DAYLIGHT
TZOFFSETFROM:-0500
TZOFFSETTO:-0400
TZNAME:EDT
DTSTART:20260308T070000
END:DAYLIGHT
BEGIN:STANDARD
TZOFFSETFROM:-0400
TZOFFSETTO:-0500
TZNAME:EST
DTSTART:20261101T060000
END:STANDARD
END:VTIMEZONE
BEGIN:VEVENT
DTSTART;TZID=America/New_York:20260421T163000
DTEND;TZID=America/New_York:20260421T171500
DTSTAMP:20260420T164226
CREATED:20260420T160008Z
LAST-MODIFIED:20260420T160008Z
UID:21431-1776789000-1776791700@www.lemoyne.edu
SUMMARY:Artist Reception | Opposites? McCabe Scholar Exhibition
DESCRIPTION:Join in celebrating the opening of “Opposites?” an exhibition of artwork by McCabe scholars\, including talks by the artists.
URL:https://www.lemoyne.edu/event/artist-reception-opposites-mccabe-scholar-exhibition/
LOCATION:2nd Floor Gallery\, Performing Arts Center\, 200 Springfield Road\, Syracuse\, NY 13214\, United States
CATEGORIES:Visual & Performing Arts
END:VEVENT
END:VCALENDAR