BEGIN:VCALENDAR
VERSION:2.0
PRODID:-//Le Moyne College - ECPv6.14.2//NONSGML v1.0//EN
CALSCALE:GREGORIAN
METHOD:PUBLISH
X-WR-CALNAME:Le Moyne College
X-ORIGINAL-URL:https://www.lemoyne.edu
X-WR-CALDESC:Events for Le Moyne College
REFRESH-INTERVAL;VALUE=DURATION:PT1H
X-Robots-Tag:noindex
X-PUBLISHED-TTL:PT1H
BEGIN:VTIMEZONE
TZID:America/New_York
BEGIN:DAYLIGHT
TZOFFSETFROM:-0500
TZOFFSETTO:-0400
TZNAME:EDT
DTSTART:20260308T070000
END:DAYLIGHT
BEGIN:STANDARD
TZOFFSETFROM:-0400
TZOFFSETTO:-0500
TZNAME:EST
DTSTART:20261101T060000
END:STANDARD
END:VTIMEZONE
BEGIN:VEVENT
DTSTART;TZID=America/New_York:20260422T180000
DTEND;TZID=America/New_York:20260422T190000
DTSTAMP:20260421T152828
CREATED:20260418T040404Z
LAST-MODIFIED:20260418T040404Z
UID:21282-1776880800-1776884400@www.lemoyne.edu
SUMMARY:Brewing Ideas
DESCRIPTION:Enjoy conversation around a thought-provoking minilecture in a relaxed happy hour atmosphere with drinks by Salt City Coffee.\n\nThis lecture will feature Profesor Jason Luscier\, Ph.D\, who will present Conserving Biodiversity in a Crowded World: Wildlife of the Salt Springs Neighborhood. \n\nThis event is free and open to the public and co-sponsored by  Salt City Coffee and the McNeil Firehouse event committee.
URL:https://www.lemoyne.edu/event/brewing-ideas/
LOCATION:Private Location
CATEGORIES:Recreational
END:VEVENT
END:VCALENDAR