BEGIN:VCALENDAR
VERSION:2.0
PRODID:-//Le Moyne College - ECPv6.14.2//NONSGML v1.0//EN
CALSCALE:GREGORIAN
METHOD:PUBLISH
X-WR-CALNAME:Le Moyne College
X-ORIGINAL-URL:https://www.lemoyne.edu
X-WR-CALDESC:Events for Le Moyne College
REFRESH-INTERVAL;VALUE=DURATION:PT1H
X-Robots-Tag:noindex
X-PUBLISHED-TTL:PT1H
BEGIN:VTIMEZONE
TZID:America/New_York
BEGIN:DAYLIGHT
TZOFFSETFROM:-0500
TZOFFSETTO:-0400
TZNAME:EDT
DTSTART:20250309T070000
END:DAYLIGHT
BEGIN:STANDARD
TZOFFSETFROM:-0400
TZOFFSETTO:-0500
TZNAME:EST
DTSTART:20251102T060000
END:STANDARD
END:VTIMEZONE
BEGIN:VEVENT
DTSTART;TZID=America/New_York:20251105T123000
DTEND;TZID=America/New_York:20251105T130000
DTSTAMP:20260420T053507
CREATED:20251102T170019Z
LAST-MODIFIED:20251102T170019Z
UID:17407-1762345800-1762347600@www.lemoyne.edu
SUMMARY:Confession / Sacrament of Reconciliation
DESCRIPTION:Confession is also available by appointment.
URL:https://www.lemoyne.edu/event/confession-sacrament-of-reconciliation-8/
LOCATION:Shanahan Chapel\, 1419 Salt Springs Road\n\, Syracuse\, New  13214\, United States
CATEGORIES:Spiritual
END:VEVENT
END:VCALENDAR