BEGIN:VCALENDAR
VERSION:2.0
PRODID:-//Le Moyne College - ECPv6.14.2//NONSGML v1.0//EN
CALSCALE:GREGORIAN
METHOD:PUBLISH
X-WR-CALNAME:Le Moyne College
X-ORIGINAL-URL:https://www.lemoyne.edu
X-WR-CALDESC:Events for Le Moyne College
REFRESH-INTERVAL;VALUE=DURATION:PT1H
X-Robots-Tag:noindex
X-PUBLISHED-TTL:PT1H
BEGIN:VTIMEZONE
TZID:America/New_York
BEGIN:DAYLIGHT
TZOFFSETFROM:-0500
TZOFFSETTO:-0400
TZNAME:EDT
DTSTART:20260308T070000
END:DAYLIGHT
BEGIN:STANDARD
TZOFFSETFROM:-0400
TZOFFSETTO:-0500
TZNAME:EST
DTSTART:20261101T060000
END:STANDARD
END:VTIMEZONE
BEGIN:VEVENT
DTSTART;TZID=America/New_York:20260507T173000
DTEND;TZID=America/New_York:20260507T210000
DTSTAMP:20260421T194300
CREATED:20250130T142042Z
LAST-MODIFIED:20260415T125057Z
UID:13401-1778175000-1778187600@www.lemoyne.edu
SUMMARY:38th Annual Frank Fernandez Business Dinner
DESCRIPTION:The 38th Annual Frank Fernandez Dinner is the Madden College of Business and Economics signature event that brings together alumni\, industry leaders\, and members of the Le Moyne community to celebrate excellence in business and leadership. The evening features dinner\, and the presentation of distinguished awards honoring emerging leaders\, industry impact\, and business leader of the year.
URL:https://www.lemoyne.edu/event/frank-fernandez-alumni-business-dinner/
LOCATION:James Commons\, Campus Center\, 1419 Salt Springs Road\, Syracuse\, NY\, 13214\, United States
CATEGORIES:Alumni
END:VEVENT
END:VCALENDAR