BEGIN:VCALENDAR
VERSION:2.0
PRODID:-//Le Moyne College - ECPv6.14.2//NONSGML v1.0//EN
CALSCALE:GREGORIAN
METHOD:PUBLISH
X-WR-CALNAME:Le Moyne College
X-ORIGINAL-URL:https://www.lemoyne.edu
X-WR-CALDESC:Events for Le Moyne College
REFRESH-INTERVAL;VALUE=DURATION:PT1H
X-Robots-Tag:noindex
X-PUBLISHED-TTL:PT1H
BEGIN:VTIMEZONE
TZID:America/New_York
BEGIN:DAYLIGHT
TZOFFSETFROM:-0500
TZOFFSETTO:-0400
TZNAME:EDT
DTSTART:20260308T070000
END:DAYLIGHT
BEGIN:STANDARD
TZOFFSETFROM:-0400
TZOFFSETTO:-0500
TZNAME:EST
DTSTART:20261101T060000
END:STANDARD
END:VTIMEZONE
BEGIN:VEVENT
DTSTART;TZID=America/New_York:20260423T160000
DTEND;TZID=America/New_York:20260423T170000
DTSTAMP:20260421T193621
CREATED:20260411T040009Z
LAST-MODIFIED:20260411T040009Z
UID:21149-1776960000-1776963600@www.lemoyne.edu
SUMMARY:Integral Honors Thesis Defense: Carolyn Redmore
DESCRIPTION:Carolyn Redmore will present her Integral Honors Thesis Defense: “A Decrescendo in Dental Anxiety: How Music Helps to Reduce Stress and Anxiety in a Dental Setting.”\n\nMany who attend dental appointments experience stress and anxiety. Previous research has suggested that playing music in a dental setting may have physiological and psychological benefits for patients during both routine appointments and invasive procedures. This presentation investigates the positive results of listening to music during dentist visits\, along with aspects of music that help it to be more effective\, including delivery methods and specific genres that are more beneficial than others.
URL:https://www.lemoyne.edu/event/integral-honors-thesis-defense-carolyn-redmore/
LOCATION:Grewen Hall\, Room 416\, 1419 Salt Springs Road\, Syracuse\, NY\, 13214\, United States
CATEGORIES:Academic
END:VEVENT
END:VCALENDAR