BEGIN:VCALENDAR
VERSION:2.0
PRODID:-//Le Moyne College - ECPv6.14.2//NONSGML v1.0//EN
CALSCALE:GREGORIAN
METHOD:PUBLISH
X-WR-CALNAME:Le Moyne College
X-ORIGINAL-URL:https://www.lemoyne.edu
X-WR-CALDESC:Events for Le Moyne College
REFRESH-INTERVAL;VALUE=DURATION:PT1H
X-Robots-Tag:noindex
X-PUBLISHED-TTL:PT1H
BEGIN:VTIMEZONE
TZID:America/New_York
BEGIN:DAYLIGHT
TZOFFSETFROM:-0500
TZOFFSETTO:-0400
TZNAME:EDT
DTSTART:20260308T070000
END:DAYLIGHT
BEGIN:STANDARD
TZOFFSETFROM:-0400
TZOFFSETTO:-0500
TZNAME:EST
DTSTART:20261101T060000
END:STANDARD
END:VTIMEZONE
BEGIN:VEVENT
DTSTART;TZID=America/New_York:20260425T120000
DTEND;TZID=America/New_York:20260425T140000
DTSTAMP:20260421T153754
CREATED:20260308T160708Z
LAST-MODIFIED:20260308T160708Z
UID:19820-1777118400-1777125600@www.lemoyne.edu
SUMMARY:Men's Lacrosse vs. Mercyhurst University
DESCRIPTION:Men’s Lacrosse vs. Mercyhurst University
URL:https://www.lemoyne.edu/event/mens-lacrosse-vs-mercyhurst-university/
LOCATION:Ted Grant Field\, 1419 Salt Springs Road\, Syracuse\, NY\, 13214\, United States
CATEGORIES:Sporting
END:VEVENT
END:VCALENDAR